BEGIN:VCALENDAR
VERSION:2.0
PRODID:-//Canby Garden Club - ECPv6.15.20//NONSGML v1.0//EN
CALSCALE:GREGORIAN
METHOD:PUBLISH
X-WR-CALNAME:Canby Garden Club
X-ORIGINAL-URL:https://canbygardenclub.com
X-WR-CALDESC:Events for Canby Garden Club
REFRESH-INTERVAL;VALUE=DURATION:PT1H
X-Robots-Tag:noindex
X-PUBLISHED-TTL:PT1H
BEGIN:VTIMEZONE
TZID:UTC
BEGIN:STANDARD
TZOFFSETFROM:+0000
TZOFFSETTO:+0000
TZNAME:UTC
DTSTART:20240101T000000
END:STANDARD
END:VTIMEZONE
BEGIN:VEVENT
DTSTART;TZID=UTC:20250321T100000
DTEND;TZID=UTC:20250321T120000
DTSTAMP:20260422T014143
CREATED:20250320T183608Z
LAST-MODIFIED:20250320T183608Z
UID:661-1742551200-1742558400@canbygardenclub.com
SUMMARY:Mother's Day Market planning meeting
DESCRIPTION:
URL:https://canbygardenclub.com/event/mothers-day-market-planning-meeting-2/
LOCATION:Canby Public Library\, 220 NE 2nd Ave\, Canby
END:VEVENT
BEGIN:VEVENT
DTSTART;TZID=UTC:20250408T130000
DTEND;TZID=UTC:20250408T160000
DTSTAMP:20260422T014143
CREATED:20250223T183152Z
LAST-MODIFIED:20250320T184026Z
UID:599-1744117200-1744128000@canbygardenclub.com
SUMMARY:April Garden Club Meeting
DESCRIPTION:Heritage Tree Program \nSpeaker Carmen Goetschius will talk to us about Heritage Trees \nCarmen is a Pacific Northwest native who has traveled and lived all over the United States. While living in Charleston\, S.C. she became interested in the old trees of the South. She will share how Charleston celebrates their old trees and look at the Heritage trees here in Canby and the Willamette Valley. \nOne beautiful tree in Canby is the Philander Lee tree at 292 N Holly Street. The oak tree the family planted sits on the site of the family’s third home\, which was constructed by carpenters with the Oregon and California Railroad in 1869. \nMore information about Oregon’s Heritage Trees here https://oregontic.com/oregon-heritage-trees/about-heritage-trees/
URL:https://canbygardenclub.com/event/april-garden-club-meeting/
LOCATION:Canby Public Library\, 220 NE 2nd Ave\, Canby
END:VEVENT
BEGIN:VEVENT
DTSTART;TZID=UTC:20250425T100000
DTEND;TZID=UTC:20250425T120000
DTSTAMP:20260422T014143
CREATED:20250320T183808Z
LAST-MODIFIED:20250320T183808Z
UID:663-1745575200-1745582400@canbygardenclub.com
SUMMARY:Mother's Day Market planning meeting
DESCRIPTION:
URL:https://canbygardenclub.com/event/mothers-day-market-planning-meeting-3/
LOCATION:Canby Public Library\, 220 NE 2nd Ave\, Canby
END:VEVENT
BEGIN:VEVENT
DTSTART;TZID=UTC:20250508T100000
DTEND;TZID=UTC:20250508T120000
DTSTAMP:20260422T014143
CREATED:20250320T183302Z
LAST-MODIFIED:20250320T183302Z
UID:659-1746698400-1746705600@canbygardenclub.com
SUMMARY:Mother's Day Market planning meeting
DESCRIPTION:
URL:https://canbygardenclub.com/event/mothers-day-market-planning-meeting/
LOCATION:OR
END:VEVENT
BEGIN:VEVENT
DTSTART;TZID=UTC:20250510T090000
DTEND;TZID=UTC:20250510T170000
DTSTAMP:20260422T014143
CREATED:20250310T212700Z
LAST-MODIFIED:20250310T212700Z
UID:642-1746867600-1746896400@canbygardenclub.com
SUMMARY:Mother's Day Market
DESCRIPTION:Come find treats at our Mother’s Day Market. \nDowntown Canby\, next to the Canby Public Library. \nWe will have house plants\, succulents\, dahlias\, Daphnes\, shrubs\, annuals\, perennials\, natives and lots of local garden goodies for mom. \nBest prices. All proceeds go to support Canby High School horticulture scholarships and local garden programs.
URL:https://canbygardenclub.com/event/mothers-day-market/
LOCATION:next to Canby Library\, 200 NE 2nd\, Canby\, OR\, 97013\, United States
END:VEVENT
BEGIN:VEVENT
DTSTART;TZID=UTC:20250513T130000
DTEND;TZID=UTC:20250513T160000
DTSTAMP:20260422T014143
CREATED:20250223T183353Z
LAST-MODIFIED:20250327T205257Z
UID:601-1747141200-1747152000@canbygardenclub.com
SUMMARY:May Garden Club Meeting
DESCRIPTION:We will tour the home and grounds of Chateau de Lis\, a beautiful castle set among lush \nlandscaping on 133 acres.  There are lovely manicured gardens\, with paths \nand ponds that we can enjoy. Along with our meeting\, we will have a Scottish Tea.
URL:https://canbygardenclub.com/event/may-garden-club-meeting/
LOCATION:Chateau de Lis\, 15201 Kirk Road\, Oregon City\, OR
END:VEVENT
BEGIN:VEVENT
DTSTART;TZID=UTC:20250610T130000
DTEND;TZID=UTC:20250610T160000
DTSTAMP:20260422T014143
CREATED:20250223T183516Z
LAST-MODIFIED:20250606T152739Z
UID:603-1749560400-1749571200@canbygardenclub.com
SUMMARY:June Garden Club Meeting
DESCRIPTION:planning for 4th of July Parade
URL:https://canbygardenclub.com/event/june-garden-club-meeting/
LOCATION:Canby Public Library\, 220 NE 2nd Ave\, Canby
END:VEVENT
BEGIN:VEVENT
DTSTART;TZID=UTC:20250708T130000
DTEND;TZID=UTC:20250708T160000
DTSTAMP:20260422T014143
CREATED:20250223T183937Z
LAST-MODIFIED:20250223T183937Z
UID:605-1751979600-1751990400@canbygardenclub.com
SUMMARY:July Garden Club Meeting
DESCRIPTION:tour of the Native Plant Sanctuary and picnic
URL:https://canbygardenclub.com/event/july-garden-club-meeting/
LOCATION:Native Plant Sanctuary\, Canby Community Park\, Canby
END:VEVENT
BEGIN:VEVENT
DTSTART;TZID=UTC:20250812T130000
DTEND;TZID=UTC:20250812T160000
DTSTAMP:20260422T014143
CREATED:20250223T184426Z
LAST-MODIFIED:20250223T184553Z
UID:609-1755003600-1755014400@canbygardenclub.com
SUMMARY:August Garden Club Meeting
DESCRIPTION:Annual summer picnic
URL:https://canbygardenclub.com/event/august-garden-club-meeting/
LOCATION:member’s home\, OR
END:VEVENT
BEGIN:VEVENT
DTSTART;TZID=UTC:20250909T130000
DTEND;TZID=UTC:20250909T160000
DTSTAMP:20260422T014143
CREATED:20250223T185158Z
LAST-MODIFIED:20250223T190209Z
UID:612-1757422800-1757433600@canbygardenclub.com
SUMMARY:September Garden Club Meeting
DESCRIPTION:Dahlias in Bill’s garden
URL:https://canbygardenclub.com/event/september-garden-club-meeting/
LOCATION:Bill’s home\, 15311 S Steven's Rd\, Oregon City\, OR
END:VEVENT
BEGIN:VEVENT
DTSTART;TZID=UTC:20251014T130000
DTEND;TZID=UTC:20251014T160000
DTSTAMP:20260422T014143
CREATED:20250223T190704Z
LAST-MODIFIED:20250223T190704Z
UID:627-1760446800-1760457600@canbygardenclub.com
SUMMARY:October Garden Club Meeting
DESCRIPTION:TBA
URL:https://canbygardenclub.com/event/october-garden-club-meeting-3/
LOCATION:OR
END:VEVENT
BEGIN:VEVENT
DTSTART;TZID=UTC:20251111T130000
DTEND;TZID=UTC:20251111T160000
DTSTAMP:20260422T014143
CREATED:20250223T185400Z
LAST-MODIFIED:20251028T115316Z
UID:619-1762866000-1762876800@canbygardenclub.com
SUMMARY:November Garden Club Meeting
DESCRIPTION:Snowman for Hot Rod Dreamworks contest
URL:https://canbygardenclub.com/event/november-garden-club-meeting-2/
LOCATION:Rutz Family Farm\, 7199 S Zimmeman Rd\, Canby\, OR\, 97013\, United States
END:VEVENT
BEGIN:VEVENT
DTSTART;TZID=UTC:20251209T130000
DTEND;TZID=UTC:20251209T160000
DTSTAMP:20260422T014143
CREATED:20250223T185746Z
LAST-MODIFIED:20250223T185746Z
UID:621-1765285200-1765296000@canbygardenclub.com
SUMMARY:December Garden Club Meeting
DESCRIPTION:Annual Christmas potluck and gift exchange
URL:https://canbygardenclub.com/event/december-garden-club-meeting-2/
LOCATION:Gloria’s home\, OR
END:VEVENT
BEGIN:VEVENT
DTSTART;TZID=UTC:20260113T130000
DTEND;TZID=UTC:20260113T150000
DTSTAMP:20260422T014143
CREATED:20251226T005448Z
LAST-MODIFIED:20251226T005448Z
UID:918-1768309200-1768316400@canbygardenclub.com
SUMMARY:January Garden Club meeting
DESCRIPTION:Planning meeting for the upcoming year
URL:https://canbygardenclub.com/event/january-garden-club-meeting-2/
LOCATION:Canby Public Library\, 220 NE 2nd Ave\, Canby
END:VEVENT
BEGIN:VEVENT
DTSTART;TZID=UTC:20260210T130000
DTEND;TZID=UTC:20260210T150000
DTSTAMP:20260422T014143
CREATED:20260122T012641Z
LAST-MODIFIED:20260122T012641Z
UID:926-1770728400-1770735600@canbygardenclub.com
SUMMARY:February Garden Club Meeting
DESCRIPTION:Clackamas Master Gardeners will present information on Planning for a Bountiful Garden
URL:https://canbygardenclub.com/event/february-garden-club-meeting-2/
LOCATION:Canby Public Library\, 220 NE 2nd Ave\, Canby
END:VEVENT
BEGIN:VEVENT
DTSTART;TZID=UTC:20260310T130000
DTEND;TZID=UTC:20260310T150000
DTSTAMP:20260422T014143
CREATED:20260228T012706Z
LAST-MODIFIED:20260228T012706Z
UID:935-1773147600-1773154800@canbygardenclub.com
SUMMARY:March Garden Club Meeting
DESCRIPTION:Cindy Geffel\, who is in the OSU master beekeeping program\, will present a program all about our pollinators and their importance to our gardens. \n 
URL:https://canbygardenclub.com/event/march-garden-club-meeting-2/
LOCATION:Canby Utility\, 1265 SE Third Ave\, Canby\, OR\, 97013\, United States
END:VEVENT
BEGIN:VEVENT
DTSTART;TZID=UTC:20260414T130000
DTEND;TZID=UTC:20260414T150000
DTSTAMP:20260422T014143
CREATED:20260228T144957Z
LAST-MODIFIED:20260228T144957Z
UID:940-1776171600-1776178800@canbygardenclub.com
SUMMARY:April Garden Club Meeting
DESCRIPTION:Tammy Baldwin of Heaven Scent Nursery in Aurora will present information on growing your own tomatoes and annuals from seed.
URL:https://canbygardenclub.com/event/april-garden-club-meeting-2/
LOCATION:Canby Public Library\, 220 NE 2nd Ave\, Canby
END:VEVENT
BEGIN:VEVENT
DTSTART;TZID=UTC:20260509T090000
DTEND;TZID=UTC:20260509T170000
DTSTAMP:20260422T014143
CREATED:20260228T235108Z
LAST-MODIFIED:20260228T235108Z
UID:942-1778317200-1778346000@canbygardenclub.com
SUMMARY:Garden Club Annual Plant Sale
DESCRIPTION:Our major fundraiser of the year.  We will be featuring donated plants from many local nurseries.  Great plants and great deals!
URL:https://canbygardenclub.com/event/garden-club-annual-plant-sale/
LOCATION:next to Canby Library\, 200 NE 2nd\, Canby\, OR\, 97013\, United States
END:VEVENT
END:VCALENDAR